BEGIN:VCALENDAR
VERSION:2.0
PRODID:-//wp-events-plugin.com//7.2.3.1//EN
BEGIN:VEVENT
UID:107@stabfechten.de
DTSTART:20260613T120000Z
DTEND:20260614T193000Z
DTSTAMP:20251124T202917Z
URL:https://www.stabfechten.de/seminare/feuerstab-bauen-und-drehen-stuttga
 rt-20-09-2025/
SUMMARY:Feuerstab bauen und drehen – Stuttgart 20.09.2025
DESCRIPTION:\n\nDen eigenen Feuerstab bauen und Stabdrehen lernen. Dieser 1
 -Tages Workshop zeigt Dir alle wichtigen Elemente\, die Du beherrschen mus
 st\, um mit dem Feuerstab zu arbeiten. Du wirst in diesem Workshop einen e
 igenen Feuerstab bauen und ihn sicher um Deinen Körper wirbeln. Lese hier
  alle Infos zu Feuerstab bauen und drehen\n\nDauer 7\,5 Stunden\nSA 13.00 
 – 20.30 Uhr\n&nbsp\;\n\n&nbsp\;\n\n&nbsp\;\nTSG Vereinsheim\nneues DOJO\
 nGeorgiiweg 11\n70597 Stuttgart-Degerloch\n\nAnreise:\n(Waldau)\nU-Bahn: U
 -Bahn: U7\, U8\n„Waldau“ (1 min. Fußweg)\nUmkleide + Duschen: vorhand
 en\nParkplätze: vorhanden\n\n\nHinweis Eingang!\nFalls das Eingangstor am
  Georgiiweg 11 geschlossen ist\, dann bitte 10 m rechter Hand den schmalen
  Fußgängerweg nehmen und über den Parkplatz in das TSG-Areal zum Dojo k
 ommen.\n&nbsp\;\nÜbernachtung und Verpflegung\nFür Unterkunft und Verpfl
 egung in den Pausen ist jeder selbst verantwortlich.\n\n\nTipp:\nÜbernach
 tung in Stuttgart\n\n\nHIRSCH HOTELBETRIEBS GMBH\nStuttgarter Straße 7\n7
 3760 Ostfildern\nDeutschland\n+49 711 441300\nwww.hirsch-hotel.com\nU7: Ha
 ltestelle „Ostfildern“ (18 min. von der Halle)\n\n\nWaldhotel Stuttgar
 t\nGuts-Muths-Weg 18\n70597 Stuttgart-Degerloch\nTelefon: 49 711 185 72 0\
 ninfo@waldhotel-stuttgart.de\n(Direkt gegenüber)\n\nWorkshop II\nDu kanns
 t auch noch dieses Seminar dazubuchen:\n"Feuerstab Workshop II" – Stuttg
 art SO 21.09.2025\, 14.30 – 20.00 Uhr
ATTACH;FMTTYPE=image/jpeg:https://www.stabfechten.de/wp-content/uploads/20
 20/01/feuerstab_erleben-2.jpg
CATEGORIES:Feuerstab bauen und drehen
LOCATION:Dojo TSG (Waldau)\, Georgiiweg 11\, Stuttgart\, Baden-Württemberg
 \, 70597\, Deutschland
X-APPLE-STRUCTURED-LOCATION;VALUE=URI;X-ADDRESS=Georgiiweg 11\, Stuttgart\,
  Baden-Württemberg\, 70597\, Deutschland;X-APPLE-RADIUS=100;X-TITLE=Dojo 
 TSG (Waldau):geo:0,0
END:VEVENT
END:VCALENDAR